![]() | Name | Last modified | Size | Description |
---|---|---|---|---|
![]() | Parent Directory | - | ||
![]() | buildsrc-out.txt | 02-Jul-2022 00:04 | 880 | |
![]() | buildsrc-summary.dcf | 02-Jul-2022 00:04 | 419 | |
![]() | checksrc-out.txt | 02-Jul-2022 00:04 | 3.4K | |
![]() | checksrc-summary.dcf | 02-Jul-2022 00:04 | 428 | |
![]() | install-out.txt | 02-Jul-2022 00:04 | 1.6K | |
![]() | install-summary.dcf | 02-Jul-2022 00:04 | 261 | |