Name | Last modified | Size | Description | |
---|---|---|---|---|
Parent Directory | - | |||
install-summary.dcf | 29-Jun-2024 00:40 | 270 | ||
install-out.txt | 29-Jun-2024 00:40 | 2.1K | ||
checksrc-summary.dcf | 29-Jun-2024 00:40 | 447 | ||
checksrc-out.txt | 29-Jun-2024 00:40 | 6.4K | ||
buildsrc-summary.dcf | 29-Jun-2024 00:40 | 430 | ||
buildsrc-out.txt | 29-Jun-2024 00:40 | 850 | ||
buildbin-summary.dcf | 29-Jun-2024 00:40 | 536 | ||
buildbin-out.txt | 29-Jun-2024 00:40 | 4.2K | ||