Index of /checkResults/devel/bioc-LATEST/alabaster.spatial/raw-results
Name
Last modified
Size
Description
Parent Directory
-
palomino4/
09-May-2024 00:36
-
nebbiolo2/
09-May-2024 00:36
-
merida1/
09-May-2024 00:37
-
info.dcf
09-May-2024 00:34
301