Index of /checkResults/devel/bioc-LATEST/alabaster.files/raw-results

[ICO]NameLast modifiedSizeDescription

[DIR]Parent Directory  -  
[   ]info.dcf29-Feb-2024 01:34 297  
[DIR]kunpeng2/29-Feb-2024 01:39 -  
[DIR]merida1/29-Feb-2024 01:38 -  
[DIR]nebbiolo1/29-Feb-2024 01:36 -  
[DIR]palomino3/29-Feb-2024 01:37 -