Name | Last modified | Size | Description | |
---|---|---|---|---|
Parent Directory | - | |||
checksrc-out.txt | 12-Jul-2024 00:59 | 3.3K | ||
install-out.txt | 12-Jul-2024 00:59 | 968 | ||
buildsrc-out.txt | 12-Jul-2024 00:59 | 861 | ||
checksrc-summary.dcf | 12-Jul-2024 00:59 | 443 | ||
buildsrc-summary.dcf | 12-Jul-2024 00:59 | 443 | ||
install-summary.dcf | 12-Jul-2024 00:59 | 274 | ||