Index of /checkResults/devel/bioc-LATEST/affylmGUI/raw-results/lconway

[ICO]NameLast modifiedSizeDescription

[DIR]Parent Directory  -  
[TXT]buildbin-out.txt07-Aug-2022 00:07 1.2K 
[   ]buildbin-summary.dcf07-Aug-2022 00:07 542  
[TXT]buildsrc-out.txt07-Aug-2022 00:07 824  
[   ]buildsrc-summary.dcf07-Aug-2022 00:07 433  
[TXT]checksrc-out.txt07-Aug-2022 00:07 23K 
[   ]checksrc-summary.dcf07-Aug-2022 00:07 452  
[TXT]install-out.txt07-Aug-2022 00:07 1.0K 
[   ]install-summary.dcf07-Aug-2022 00:07 273