Back to Multiple platform build/check report for BioC 3.14
[A]BCDEFGHIJKLMNOPQRSTUVWXYZ

This page was generated on 2021-10-20 12:04:59 -0400 (Wed, 20 Oct 2021).

INSTALL results for affycoretools on riesling1

To the developers/maintainers of the affycoretools package:
- Please allow up to 24 hours (and sometimes 48 hours) for your latest push to git@git.bioconductor.org:packages/affycoretools.git to
reflect on this report. See How and When does the builder pull? When will my changes propagate? here for more information.
- Make sure to use the following settings in order to reproduce any error or warning you see on this page.

raw results

Package 27/2072HostnameOS / ArchINSTALLBUILDCHECKBUILD BIN
affycoretools 1.65.0  (landing page)
James W. MacDonald
Snapshot Date: 2021-10-19 14:50:04 -0400 (Tue, 19 Oct 2021)
git_url: https://git.bioconductor.org/packages/affycoretools
git_branch: master
git_last_commit: eb8c1c5
git_last_commit_date: 2021-05-19 11:36:33 -0400 (Wed, 19 May 2021)
nebbiolo2Linux (Ubuntu 20.04.2 LTS) / x86_64  OK    OK    WARNINGS  UNNEEDED, same version is already published
riesling1Windows Server 2019 Standard / x64  OK    OK    WARNINGS    OK  UNNEEDED, same version is already published
merida1macOS 10.14.6 Mojave / x86_64  OK    OK    WARNINGS    OK  UNNEEDED, same version is already published

Summary

Package: affycoretools
Version: 1.65.0
Command: C:\cygwin\bin\curl.exe -O http://155.52.207.166/BBS/3.14/bioc/src/contrib/affycoretools_1.65.0.tar.gz && rm -rf affycoretools.buildbin-libdir && mkdir affycoretools.buildbin-libdir && D:\biocbuild\bbs-3.14-bioc\R\bin\R.exe CMD INSTALL --merge-multiarch --build --library=affycoretools.buildbin-libdir affycoretools_1.65.0.tar.gz && D:\biocbuild\bbs-3.14-bioc\R\bin\R.exe CMD INSTALL affycoretools_1.65.0.zip && rm affycoretools_1.65.0.tar.gz affycoretools_1.65.0.zip
StartedAt: 2021-10-19 19:20:29 -0400 (Tue, 19 Oct 2021)
EndedAt: 2021-10-19 19:23:28 -0400 (Tue, 19 Oct 2021)
EllapsedTime: 179.3 seconds
RetCode: 0
Status:   OK  

Command output

##############################################################################
##############################################################################
###
### Running command:
###
###   C:\cygwin\bin\curl.exe -O http://155.52.207.166/BBS/3.14/bioc/src/contrib/affycoretools_1.65.0.tar.gz && rm -rf affycoretools.buildbin-libdir && mkdir affycoretools.buildbin-libdir && D:\biocbuild\bbs-3.14-bioc\R\bin\R.exe CMD INSTALL --merge-multiarch --build --library=affycoretools.buildbin-libdir affycoretools_1.65.0.tar.gz && D:\biocbuild\bbs-3.14-bioc\R\bin\R.exe CMD INSTALL affycoretools_1.65.0.zip && rm affycoretools_1.65.0.tar.gz affycoretools_1.65.0.zip
###
##############################################################################
##############################################################################


  % Total    % Received % Xferd  Average Speed   Time    Time     Time  Current
                                 Dload  Upload   Total   Spent    Left  Speed

  0     0    0     0    0     0      0      0 --:--:-- --:--:-- --:--:--     0
 14 6444k   14  934k    0     0  1923k      0  0:00:03 --:--:--  0:00:03 1919k
 66 6444k   66 4289k    0     0  2818k      0  0:00:02  0:00:01  0:00:01 2816k
100 6444k  100 6444k    0     0  3101k      0  0:00:02  0:00:02 --:--:-- 3102k

install for i386

* installing *source* package 'affycoretools' ...
** using staged installation
** R
** inst
** byte-compile and prepare package for lazy loading
** help
*** installing help indices
  converting help for package 'affycoretools'
    finding HTML links ... done
    affycoretools-defunct                   html  
    affycoretools                           html  
    affystart                               html  
    annotateEset                            html  
    dataAndHeatmapPage                      html  
    doGlimma                                html  
    entrezLinks                             html  
    fixHeaderAndGo                          html  
    geneSetPage                             html  
    finding level-2 HTML links ... done

    getCols                                 html  
    getMainProbes                           html  
    gsHeatmap                               html  
    intNames                                html  
    make.cl                                 html  
    makeGoGeneTable                         html  
    makeGoTable                             html  
    makeHmap                                html  
    makeImages                              html  
    makeIndices                             html  
    makeVenn                                html  
    maplot                                  html  
    mirna2mrna                              html  
    outputRomer                             html  
    pca.legend                              html  
    plotDeg                                 html  
    plotPCA                                 html  
    runRomer                                html  
    tableFilt                               html  
    venn4Way                                html  
    vennCounts2                             html  
    vennInLine                              html  
    vennPage                                html  
    vennSelect2                             html  
    writeFit                                html  
** building package indices
** installing vignettes
** testing if installed package can be loaded from temporary location
** testing if installed package can be loaded from final location
** testing if installed package keeps a record of temporary installation path

install for x64

* installing *source* package 'affycoretools' ...
** testing if installed package can be loaded
* MD5 sums
packaged installation of 'affycoretools' as affycoretools_1.65.0.zip
* DONE (affycoretools)
* installing to library 'D:/biocbuild/bbs-3.14-bioc/R/library'
package 'affycoretools' successfully unpacked and MD5 sums checked