Index of /checkResults/devel/bioc-LATEST/affycoretools/raw-results/kunpeng2

[ICO]NameLast modifiedSizeDescription

[DIR]Parent Directory  -  
[TXT]buildsrc-out.txt29-Feb-2024 01:39 842  
[   ]buildsrc-summary.dcf29-Feb-2024 01:39 448  
[TXT]checksrc-out.txt29-Feb-2024 01:39 3.5K 
[   ]checksrc-summary.dcf29-Feb-2024 01:39 477  
[TXT]install-out.txt29-Feb-2024 01:39 1.0K 
[   ]install-summary.dcf29-Feb-2024 01:39 283