Back to Multiple platform build/check report for BioC 3.15
[A]BCDEFGHIJKLMNOPQRSTUVWXYZ

This page was generated on 2022-01-17 11:06:44 -0500 (Mon, 17 Jan 2022).

HostnameOSArch (*)R versionInstalled pkgs
nebbiolo1Linux (Ubuntu 20.04.4 LTS)x86_64R Under development (unstable) (2022-01-05 r81451) -- "Unsuffered Consequences" 4161
riesling1Windows Server 2019 Standardx64R Under development (unstable) (2021-11-21 r81221) -- "Unsuffered Consequences" 4056
palomino3Windows Server 2022 Datacenterx64R Under development (unstable) (2021-12-21 r81400 ucrt) -- "Unsuffered Consequences" 3998
merida1macOS 10.14.6 Mojavex86_64R Under development (unstable) (2022-01-05 r81451) -- "Unsuffered Consequences" 4115
Click on any hostname to see more info about the system (e.g. compilers)      (*) as reported by 'uname -p', except on Windows and Mac OS X

BUILD results for affyILM on riesling1


To the developers/maintainers of the affyILM package:
- Please allow up to 24 hours (and sometimes 48 hours) for your latest push to git@git.bioconductor.org:packages/affyILM.git to
reflect on this report. See How and When does the builder pull? When will my changes propagate? here for more information.
- Make sure to use the following settings in order to reproduce any error or warning you see on this page.

raw results

Package 28/2074HostnameOS / ArchINSTALLBUILDCHECKBUILD BIN
affyILM 1.47.0  (landing page)
Myriam Kroll and Fabrice Berger
Snapshot Date: 2022-01-16 13:55:18 -0500 (Sun, 16 Jan 2022)
git_url: https://git.bioconductor.org/packages/affyILM
git_branch: master
git_last_commit: c7f2fa8
git_last_commit_date: 2021-10-26 11:56:15 -0500 (Tue, 26 Oct 2021)
nebbiolo1Linux (Ubuntu 20.04.4 LTS) / x86_64  OK    OK    OK  UNNEEDED, same version is already published
riesling1Windows Server 2019 Standard / x64  OK    OK    OK    OK  
palomino3Windows Server 2022 Datacenter / x64  OK    OK    OK    OK  NO, package depends on 'gcrma' which is not available
merida1macOS 10.14.6 Mojave / x86_64  OK    OK    OK    OK  UNNEEDED, same version is already published

Summary

Package: affyILM
Version: 1.47.0
Command: chmod a+r affyILM -R && D:\biocbuild\bbs-3.15-bioc\R\bin\R.exe CMD build --keep-empty-dirs --no-resave-data affyILM
StartedAt: 2022-01-16 16:19:30 -0500 (Sun, 16 Jan 2022)
EndedAt: 2022-01-16 16:20:37 -0500 (Sun, 16 Jan 2022)
EllapsedTime: 66.7 seconds
RetCode: 0
Status:   OK  
PackageFile: affyILM_1.47.0.tar.gz
PackageFileSize: 125.1 KiB

Command output

##############################################################################
##############################################################################
###
### Running command:
###
###   chmod a+r affyILM -R && D:\biocbuild\bbs-3.15-bioc\R\bin\R.exe CMD build --keep-empty-dirs --no-resave-data affyILM
###
##############################################################################
##############################################################################


* checking for file 'affyILM/DESCRIPTION' ... OK
* preparing 'affyILM':
* checking DESCRIPTION meta-information ... OK
* installing the package to build vignettes
* creating vignettes ... OK
* checking for LF line-endings in source and make files and shell scripts
* checking for empty or unneeded directories
* building 'affyILM_1.47.0.tar.gz'