Name | Last modified | Size | Description | |
---|---|---|---|---|
Parent Directory | - | |||
checksrc-out.txt | 17-Jul-2024 00:39 | 6.4K | ||
buildbin-out.txt | 17-Jul-2024 00:39 | 3.5K | ||
install-out.txt | 17-Jul-2024 00:39 | 3.3K | ||
buildsrc-out.txt | 17-Jul-2024 00:39 | 1.0K | ||
buildbin-summary.dcf | 17-Jul-2024 00:39 | 503 | ||
checksrc-summary.dcf | 17-Jul-2024 00:39 | 453 | ||
buildsrc-summary.dcf | 17-Jul-2024 00:39 | 446 | ||
install-summary.dcf | 17-Jul-2024 00:39 | 268 | ||