Name | Last modified | Size | Description | |
---|---|---|---|---|
Parent Directory | - | |||
install-summary.dcf | 28-Jul-2024 00:38 | 252 | ||
install-out.txt | 28-Jul-2024 00:38 | 2.7K | ||
checksrc-summary.dcf | 28-Jul-2024 00:38 | 408 | ||
checksrc-out.txt | 28-Jul-2024 00:38 | 5.8K | ||
buildsrc-summary.dcf | 28-Jul-2024 00:38 | 413 | ||
buildsrc-out.txt | 28-Jul-2024 00:38 | 959 | ||