Name | Last modified | Size | Description | |
---|---|---|---|---|
Parent Directory | - | |||
install-out.txt | 27-Jul-2024 00:40 | 3.4K | ||
install-summary.dcf | 27-Jul-2024 00:40 | 263 | ||
buildsrc-out.txt | 27-Jul-2024 00:40 | 945 | ||
buildsrc-summary.dcf | 27-Jul-2024 00:40 | 418 | ||
checksrc-out.txt | 27-Jul-2024 00:40 | 5.9K | ||
checksrc-summary.dcf | 27-Jul-2024 00:40 | 438 | ||
buildbin-out.txt | 27-Jul-2024 00:40 | 5.4K | ||
buildbin-summary.dcf | 27-Jul-2024 00:40 | 512 | ||