Name | Last modified | Size | Description | |
---|---|---|---|---|
Parent Directory | - | |||
checksrc-out.txt | 28-Jul-2024 00:42 | 5.8K | ||
buildbin-out.txt | 28-Jul-2024 00:42 | 5.4K | ||
install-out.txt | 28-Jul-2024 00:42 | 3.4K | ||
buildsrc-out.txt | 28-Jul-2024 00:42 | 945 | ||
buildbin-summary.dcf | 28-Jul-2024 00:42 | 510 | ||
checksrc-summary.dcf | 28-Jul-2024 00:42 | 437 | ||
buildsrc-summary.dcf | 28-Jul-2024 00:42 | 418 | ||
install-summary.dcf | 28-Jul-2024 00:42 | 262 | ||