Name | Last modified | Size | Description | |
---|---|---|---|---|
Parent Directory | - | |||
buildbin-summary.dcf | 12-Jun-2024 04:42 | 511 | ||
buildbin-out.txt | 12-Jun-2024 04:42 | 5.4K | ||
checksrc-summary.dcf | 12-Jun-2024 04:42 | 438 | ||
checksrc-out.txt | 12-Jun-2024 04:42 | 6.0K | ||
buildsrc-summary.dcf | 12-Jun-2024 04:42 | 418 | ||
buildsrc-out.txt | 12-Jun-2024 04:42 | 945 | ||
install-summary.dcf | 12-Jun-2024 04:42 | 263 | ||
install-out.txt | 12-Jun-2024 04:42 | 3.4K | ||