Index of /checkResults/devel/bioc-LATEST/adductomicsR/raw-results/palomino4

[ICO]NameLast modifiedSizeDescription

[DIR]Parent Directory  -  
[TXT]buildbin-out.txt25-Jun-2022 00:06 1.2K 
[   ]buildbin-summary.dcf25-Jun-2022 00:06 563  
[TXT]buildsrc-out.txt25-Jun-2022 00:06 864  
[   ]buildsrc-summary.dcf25-Jun-2022 00:06 472  
[TXT]checksrc-out.txt25-Jun-2022 00:06 3.6K 
[   ]checksrc-summary.dcf25-Jun-2022 00:06 476  
[TXT]install-out.txt25-Jun-2022 00:06 1.8K 
[   ]install-summary.dcf25-Jun-2022 00:06 673