![]() | Name | Last modified | Size | Description |
---|---|---|---|---|
![]() | Parent Directory | - | ||
![]() | install-summary.dcf | 29-Sep-2023 00:36 | 269 | |
![]() | buildsrc-summary.dcf | 29-Sep-2023 00:36 | 433 | |
![]() | checksrc-summary.dcf | 29-Sep-2023 00:36 | 440 | |
![]() | buildsrc-out.txt | 29-Sep-2023 00:36 | 826 | |
![]() | install-out.txt | 29-Sep-2023 00:36 | 967 | |
![]() | checksrc-out.txt | 29-Sep-2023 00:36 | 3.8K | |