![]() | Name | Last modified | Size | Description |
---|---|---|---|---|
![]() | Parent Directory | - | ||
![]() | buildsrc-out.txt | 30-Jun-2022 00:04 | 826 | |
![]() | buildsrc-summary.dcf | 30-Jun-2022 00:04 | 433 | |
![]() | checksrc-out.txt | 30-Jun-2022 00:04 | 3.6K | |
![]() | checksrc-summary.dcf | 30-Jun-2022 00:04 | 450 | |
![]() | install-out.txt | 30-Jun-2022 00:04 | 962 | |
![]() | install-summary.dcf | 30-Jun-2022 00:04 | 269 | |