Name | Last modified | Size | Description | |
---|---|---|---|---|
Parent Directory | - | |||
buildsrc-out.txt | 29-Mar-2024 00:36 | 826 | ||
buildsrc-summary.dcf | 29-Mar-2024 00:36 | 431 | ||
checksrc-out.txt | 29-Mar-2024 00:36 | 3.8K | ||
checksrc-summary.dcf | 29-Mar-2024 00:36 | 440 | ||
install-out.txt | 29-Mar-2024 00:36 | 967 | ||
install-summary.dcf | 29-Mar-2024 00:36 | 269 | ||