Index of /checkResults/devel/bioc-LATEST/adductomicsR/raw-results/kjohnson3

[ICO]NameLast modifiedSizeDescription

[DIR]Parent Directory  -  
[TXT]buildbin-out.txt13-Jul-2024 01:33 1.2K 
[   ]buildbin-summary.dcf13-Jul-2024 01:33 559  
[TXT]buildsrc-out.txt13-Jul-2024 01:33 836  
[   ]buildsrc-summary.dcf13-Jul-2024 01:33 441  
[TXT]checksrc-out.txt13-Jul-2024 01:33 3.9K 
[   ]checksrc-summary.dcf13-Jul-2024 01:33 469  
[TXT]install-out.txt13-Jul-2024 01:33 1.0K 
[   ]install-summary.dcf13-Jul-2024 01:33 278