Index of /checkResults/devel/bioc-LATEST/adductomicsR/raw-results
Name
Last modified
Size
Description
Parent Directory
-
palomino4/
22-Sep-2023 00:37
-
nebbiolo2/
22-Sep-2023 00:36
-
lconway/
22-Sep-2023 00:38
-
kunpeng2/
22-Sep-2023 00:40
-
info.dcf
22-Sep-2023 00:40
274