Name | Last modified | Size | Description | |
---|---|---|---|---|
Parent Directory | - | |||
buildbin-out.txt | 28-Jul-2024 00:39 | 1.0K | ||
buildbin-summary.dcf | 28-Jul-2024 00:39 | 509 | ||
buildsrc-out.txt | 28-Jul-2024 00:39 | 820 | ||
buildsrc-summary.dcf | 28-Jul-2024 00:39 | 447 | ||
checksrc-out.txt | 28-Jul-2024 00:39 | 4.5K | ||
checksrc-summary.dcf | 28-Jul-2024 00:39 | 443 | ||
install-out.txt | 28-Jul-2024 00:39 | 943 | ||
install-summary.dcf | 28-Jul-2024 00:39 | 266 | ||