Name | Last modified | Size | Description | |
---|---|---|---|---|
Parent Directory | - | |||
install-summary.dcf | 17-Jul-2024 00:39 | 272 | ||
install-out.txt | 17-Jul-2024 00:39 | 955 | ||
checksrc-summary.dcf | 17-Jul-2024 00:39 | 455 | ||
checksrc-out.txt | 17-Jul-2024 00:39 | 4.4K | ||
buildsrc-summary.dcf | 17-Jul-2024 00:39 | 453 | ||
buildsrc-out.txt | 17-Jul-2024 00:39 | 826 | ||
buildbin-summary.dcf | 17-Jul-2024 00:39 | 515 | ||
buildbin-out.txt | 17-Jul-2024 00:39 | 1.0K | ||