Name | Last modified | Size | Description | |
---|---|---|---|---|
Parent Directory | - | |||
checksrc-out.txt | 12-Jun-2024 04:40 | 4.5K | ||
buildbin-out.txt | 12-Jun-2024 04:40 | 1.0K | ||
install-out.txt | 12-Jun-2024 04:40 | 943 | ||
buildsrc-out.txt | 12-Jun-2024 04:40 | 820 | ||
buildbin-summary.dcf | 12-Jun-2024 04:40 | 509 | ||
buildsrc-summary.dcf | 12-Jun-2024 04:40 | 447 | ||
checksrc-summary.dcf | 12-Jun-2024 04:40 | 443 | ||
install-summary.dcf | 12-Jun-2024 04:40 | 266 | ||