Index of /checkResults/devel/bioc-LATEST/a4Base/raw-results/nebbiolo2

[ICO]NameLast modifiedSizeDescription

[DIR]Parent Directory  -  
[   ]install-summary.dcf20-Aug-2022 01:10 257  
[   ]buildsrc-summary.dcf20-Aug-2022 01:10 413  
[   ]checksrc-summary.dcf20-Aug-2022 01:10 420  
[TXT]buildsrc-out.txt20-Aug-2022 01:10 793  
[TXT]install-out.txt20-Aug-2022 01:10 928  
[TXT]checksrc-out.txt20-Aug-2022 01:10 3.0K