Index of /checkResults/devel/bioc-LATEST/a4Base/raw-results/nebbiolo2

[ICO]NameLast modifiedSizeDescription

[DIR]Parent Directory  -  
[TXT]buildsrc-out.txt05-Jul-2022 00:04 793  
[   ]buildsrc-summary.dcf05-Jul-2022 00:04 413  
[TXT]checksrc-out.txt05-Jul-2022 00:04 3.0K 
[   ]checksrc-summary.dcf05-Jul-2022 00:04 420  
[TXT]install-out.txt05-Jul-2022 00:04 928  
[   ]install-summary.dcf05-Jul-2022 00:04 257