Name | Last modified | Size | Description | |
---|---|---|---|---|
Parent Directory | - | |||
checksrc-out.txt | 28-Jul-2024 00:40 | 4.5K | ||
buildbin-out.txt | 28-Jul-2024 00:40 | 1.1K | ||
install-out.txt | 28-Jul-2024 00:40 | 968 | ||
buildsrc-out.txt | 28-Jul-2024 00:40 | 803 | ||
buildbin-summary.dcf | 28-Jul-2024 00:40 | 522 | ||
checksrc-summary.dcf | 28-Jul-2024 00:40 | 440 | ||
buildsrc-summary.dcf | 28-Jul-2024 00:40 | 423 | ||
install-summary.dcf | 28-Jul-2024 00:40 | 267 | ||