Index of /checkResults/devel/bioc-LATEST/a4Base/raw-results/lconway

[ICO]NameLast modifiedSizeDescription

[DIR]Parent Directory  -  
[TXT]buildbin-out.txt02-Jul-2022 00:07 1.1K 
[   ]buildbin-summary.dcf02-Jul-2022 00:07 524  
[TXT]buildsrc-out.txt02-Jul-2022 00:07 803  
[   ]buildsrc-summary.dcf02-Jul-2022 00:07 423  
[TXT]checksrc-out.txt02-Jul-2022 00:07 3.1K 
[   ]checksrc-summary.dcf02-Jul-2022 00:07 440  
[TXT]install-out.txt02-Jul-2022 00:07 961  
[   ]install-summary.dcf02-Jul-2022 00:07 267