Index of /checkResults/devel/bioc-LATEST/YAPSA/raw-results

[ICO]NameLast modifiedSizeDescription

[DIR]Parent Directory  -  
[   ]info.dcf24-May-2022 00:08 280  
[DIR]lconway/24-May-2022 00:08 -  
[DIR]nebbiolo2/24-May-2022 00:05 -  
[DIR]palomino4/24-May-2022 00:07 -