Name | Last modified | Size | Description | |
---|---|---|---|---|
Parent Directory | - | |||
buildsrc-out.txt | 09-Jul-2024 00:45 | 832 | ||
buildsrc-summary.dcf | 09-Jul-2024 00:45 | 412 | ||
checksrc-out.txt | 09-Jul-2024 00:45 | 4.7K | ||
checksrc-summary.dcf | 09-Jul-2024 00:45 | 419 | ||
install-out.txt | 07-Jul-2024 00:45 | 67K | ||
install-summary.dcf | 07-Jul-2024 00:45 | 252 | ||