Back to Multiple platform build/check report for BioC 3.15
ABCDEFGHIJKLMNOPQRSTU[V]WXYZ

This page was generated on 2022-01-18 11:08:37 -0500 (Tue, 18 Jan 2022).

HostnameOSArch (*)R versionInstalled pkgs
nebbiolo1Linux (Ubuntu 20.04.4 LTS)x86_64R Under development (unstable) (2022-01-05 r81451) -- "Unsuffered Consequences" 4161
riesling1Windows Server 2019 Standardx64R Under development (unstable) (2021-11-21 r81221) -- "Unsuffered Consequences" 4056
palomino3Windows Server 2022 Datacenterx64R Under development (unstable) (2021-12-21 r81400 ucrt) -- "Unsuffered Consequences" 3998
merida1macOS 10.14.6 Mojavex86_64R Under development (unstable) (2022-01-05 r81451) -- "Unsuffered Consequences" 4115
Click on any hostname to see more info about the system (e.g. compilers)      (*) as reported by 'uname -p', except on Windows and Mac OS X

INSTALL results for ViSEAGO on riesling1


To the developers/maintainers of the ViSEAGO package:
- Please allow up to 24 hours (and sometimes 48 hours) for your latest push to git@git.bioconductor.org:packages/ViSEAGO.git to
reflect on this report. See How and When does the builder pull? When will my changes propagate? here for more information.
- Make sure to use the following settings in order to reproduce any error or warning you see on this page.

raw results

Package 2043/2074HostnameOS / ArchINSTALLBUILDCHECKBUILD BIN
ViSEAGO 1.9.0  (landing page)
Aurelien Brionne
Snapshot Date: 2022-01-17 13:55:17 -0500 (Mon, 17 Jan 2022)
git_url: https://git.bioconductor.org/packages/ViSEAGO
git_branch: master
git_last_commit: 0d62b70
git_last_commit_date: 2021-10-26 12:52:59 -0500 (Tue, 26 Oct 2021)
nebbiolo1Linux (Ubuntu 20.04.4 LTS) / x86_64  OK    OK    WARNINGS  UNNEEDED, same version is already published
riesling1Windows Server 2019 Standard / x64  OK    OK    WARNINGS    OK  
palomino3Windows Server 2022 Datacenter / x64  OK    OK    WARNINGS    OK  NO, package depends on 'AnnotationDbi' which is not available
merida1macOS 10.14.6 Mojave / x86_64  OK    OK    WARNINGS    OK  NO, package depends on 'fgsea' which is not available

Summary

Package: ViSEAGO
Version: 1.9.0
Command: D:\biocbuild\bbs-3.15-bioc\R\bin\R.exe CMD INSTALL ViSEAGO
StartedAt: 2022-01-17 15:56:01 -0500 (Mon, 17 Jan 2022)
EndedAt: 2022-01-17 15:57:01 -0500 (Mon, 17 Jan 2022)
EllapsedTime: 60.2 seconds
RetCode: 0
Status:   OK  

Command output

##############################################################################
##############################################################################
###
### Running command:
###
###   D:\biocbuild\bbs-3.15-bioc\R\bin\R.exe CMD INSTALL ViSEAGO
###
##############################################################################
##############################################################################


* installing to library 'D:/biocbuild/bbs-3.15-bioc/R/library'
* installing *source* package 'ViSEAGO' ...
** using staged installation
** R
** data
** inst
** byte-compile and prepare package for lazy loading
Warning: replacing previous import 'data.table::set' by 'dendextend::set' when loading 'ViSEAGO'
** help
*** installing help indices
  converting help for package 'ViSEAGO'
    finding HTML links ... done
    Bioconductor2GO                         html  
    Custom2GO                               html  
    Ensembl2GO                              html  
    EntrezGene2GO                           html  
    EntrezGene_orthologs                    html  
    GO_SS-class                             html  
    GO_clusters-class                       html  
    GOclusters_heatmap-methods              html  
    GOcount-methods                         html  
    GOterms_heatmap-methods                 html  
    MDSplot-methods                         html  
    Uniprot2GO                              html  
    Upset-methods                           html  
    ViSEAGO                                 html  
    annotate-methods                        html  
    available_organisms-methods             html  
    build_GO_SS-methods                     html  
    clusters_cor-methods                    html  
    compare_clusters-methods                html  
    compute_SS_distances-methods            html  
    create_topGOdata-methods                html  
    enrich_GO_terms-class                   html  
    fgsea-class                             html  
    gene2GO-class                           html  
    genomic_ressource-class                 html  
    merge_enrich_terms-methods              html  
    myGOs                                   html  
    overLapper                              html  
    finding level-2 HTML links ... done

    pkgdiagram                              html  
    runfgsea-methods                        html  
    show_heatmap-methods                    html  
    show_table-methods                      html  
    taxonomy                                html  
** building package indices
** installing vignettes
** testing if installed package can be loaded from temporary location
Warning: replacing previous import 'data.table::set' by 'dendextend::set' when loading 'ViSEAGO'
** testing if installed package can be loaded from final location
Warning: replacing previous import 'data.table::set' by 'dendextend::set' when loading 'ViSEAGO'
** testing if installed package keeps a record of temporary installation path
* DONE (ViSEAGO)
Making 'packages.html' ...Warning in packageDescription(i, lib.loc = lib, fields = "Title", encoding = "UTF-8") :
  DESCRIPTION file of package 'celaref' is missing or broken
 done