Index of /checkResults/devel/bioc-LATEST/ViSEAGO/raw-results/nebbiolo2

[ICO]NameLast modifiedSizeDescription

[DIR]Parent Directory  -  
[   ]install-summary.dcf01-Oct-2023 00:36 259  
[   ]buildsrc-summary.dcf01-Oct-2023 00:36 417  
[   ]checksrc-summary.dcf01-Oct-2023 00:36 420  
[TXT]buildsrc-out.txt01-Oct-2023 00:36 869  
[TXT]install-out.txt01-Oct-2023 00:36 1.3K 
[TXT]checksrc-out.txt01-Oct-2023 00:36 8.2K