Index of /checkResults/devel/bioc-LATEST/ViSEAGO/raw-results/nebbiolo2

[ICO]NameLast modifiedSizeDescription

[DIR]Parent Directory  -  
[TXT]buildsrc-out.txt02-Jul-2022 00:05 869  
[   ]buildsrc-summary.dcf02-Jul-2022 00:05 417  
[TXT]checksrc-out.txt02-Jul-2022 00:05 7.8K 
[   ]checksrc-summary.dcf02-Jul-2022 00:05 430  
[TXT]install-out.txt02-Jul-2022 00:05 1.3K 
[   ]install-summary.dcf02-Jul-2022 00:05 259