Index of /checkResults/devel/bioc-LATEST/ViSEAGO/raw-results/lconway

[ICO]NameLast modifiedSizeDescription

[DIR]Parent Directory  -  
[TXT]buildbin-out.txt25-Jun-2022 00:08 1.5K 
[   ]buildbin-summary.dcf25-Jun-2022 00:08 530  
[TXT]buildsrc-out.txt25-Jun-2022 00:08 879  
[   ]buildsrc-summary.dcf25-Jun-2022 00:08 427  
[TXT]checksrc-out.txt25-Jun-2022 00:08 7.8K 
[   ]checksrc-summary.dcf25-Jun-2022 00:08 450  
[TXT]install-out.txt25-Jun-2022 00:08 1.3K 
[   ]install-summary.dcf25-Jun-2022 00:08 269