Index of /checkResults/devel/bioc-LATEST/ViSEAGO/raw-results
Name
Last modified
Size
Description
Parent Directory
-
info.dcf
19-Mar-2024 00:36
273
kunpeng2/
19-Mar-2024 00:40
-
lconway/
19-Mar-2024 00:39
-
merida1/
05-Mar-2024 01:40
-
nebbiolo1/
19-Mar-2024 00:37
-
palomino3/
19-Mar-2024 00:38
-