Back to Multiple platform build/check report for BioC 3.17
ABCDEFGHIJKLMNOPQRSTU[V]WXYZ

This page was generated on 2022-11-25 11:06:50 -0500 (Fri, 25 Nov 2022).

HostnameOSArch (*)R versionInstalled pkgs
nebbiolo1Linux (Ubuntu 20.04.5 LTS)x86_64R Under development (unstable) (2022-10-25 r83175) -- "Unsuffered Consequences" 4461
palomino3Windows Server 2022 Datacenterx64R Under development (unstable) (2022-10-11 r83083 ucrt) -- "Unsuffered Consequences" 4200
merida1macOS 10.14.6 Mojavex86_64R Under development (unstable) (2022-11-13 r83342) -- "Unsuffered Consequences" 4230
Click on any hostname to see more info about the system (e.g. compilers)      (*) as reported by 'uname -p', except on Windows and Mac OS X

INSTALL results for ViSEAGO on nebbiolo1


To the developers/maintainers of the ViSEAGO package:
- Please allow up to 24 hours (and sometimes 48 hours) for your latest push to git@git.bioconductor.org:packages/ViSEAGO.git to
reflect on this report. See How and When does the builder pull? When will my changes propagate? for more information.
- Make sure to use the following settings in order to reproduce any error or warning you see on this page.

raw results

Package 2120/2154HostnameOS / ArchINSTALLBUILDCHECKBUILD BIN
ViSEAGO 1.13.0  (landing page)
Aurelien Brionne
Snapshot Date: 2022-11-24 14:00:14 -0500 (Thu, 24 Nov 2022)
git_url: https://git.bioconductor.org/packages/ViSEAGO
git_branch: master
git_last_commit: 54a13c4
git_last_commit_date: 2022-11-01 11:20:11 -0500 (Tue, 01 Nov 2022)
nebbiolo1Linux (Ubuntu 20.04.5 LTS) / x86_64  OK    OK    WARNINGS  UNNEEDED, same version is already published
palomino3Windows Server 2022 Datacenter / x64  OK    OK    WARNINGS    OK  UNNEEDED, same version is already published
merida1macOS 10.14.6 Mojave / x86_64  OK    OK    WARNINGS    OK  NO, package depends on 'fgsea' which is not available

Summary

Package: ViSEAGO
Version: 1.13.0
Command: /home/biocbuild/bbs-3.17-bioc/R/bin/R CMD INSTALL ViSEAGO
StartedAt: 2022-11-24 15:39:13 -0500 (Thu, 24 Nov 2022)
EndedAt: 2022-11-24 15:39:43 -0500 (Thu, 24 Nov 2022)
EllapsedTime: 29.8 seconds
RetCode: 0
Status:   OK  

Command output

##############################################################################
##############################################################################
###
### Running command:
###
###   /home/biocbuild/bbs-3.17-bioc/R/bin/R CMD INSTALL ViSEAGO
###
##############################################################################
##############################################################################


* installing to library ‘/home/biocbuild/bbs-3.17-bioc/R/library’
* installing *source* package ‘ViSEAGO’ ...
** using staged installation
** R
** data
** inst
** byte-compile and prepare package for lazy loading
Warning: replacing previous import ‘data.table::set’ by ‘dendextend::set’ when loading ‘ViSEAGO’
** help
*** installing help indices
** building package indices
** installing vignettes
** testing if installed package can be loaded from temporary location
Warning: replacing previous import ‘data.table::set’ by ‘dendextend::set’ when loading ‘ViSEAGO’
** testing if installed package can be loaded from final location
Warning: replacing previous import ‘data.table::set’ by ‘dendextend::set’ when loading ‘ViSEAGO’
** testing if installed package keeps a record of temporary installation path
* DONE (ViSEAGO)