Back to Multiple platform build/check report for BioC 3.15
ABCDEFGHIJKLMNOPQRSTU[V]WXYZ

This page was generated on 2022-01-20 11:08:36 -0500 (Thu, 20 Jan 2022).

HostnameOSArch (*)R versionInstalled pkgs
nebbiolo1Linux (Ubuntu 20.04.4 LTS)x86_64R Under development (unstable) (2022-01-05 r81451) -- "Unsuffered Consequences" 4162
riesling1Windows Server 2019 Standardx64R Under development (unstable) (2021-11-21 r81221) -- "Unsuffered Consequences" 4057
palomino3Windows Server 2022 Datacenterx64R Under development (unstable) (2021-12-21 r81400 ucrt) -- "Unsuffered Consequences" 3999
merida1macOS 10.14.6 Mojavex86_64R Under development (unstable) (2022-01-05 r81451) -- "Unsuffered Consequences" 4116
Click on any hostname to see more info about the system (e.g. compilers)      (*) as reported by 'uname -p', except on Windows and Mac OS X

INSTALL results for VariantFiltering on riesling1


To the developers/maintainers of the VariantFiltering package:
- Please allow up to 24 hours (and sometimes 48 hours) for your latest push to git@git.bioconductor.org:packages/VariantFiltering.git to
reflect on this report. See How and When does the builder pull? When will my changes propagate? here for more information.
- Make sure to use the following settings in order to reproduce any error or warning you see on this page.

raw results

Package 2031/2074HostnameOS / ArchINSTALLBUILDCHECKBUILD BIN
VariantFiltering 1.31.0  (landing page)
Robert Castelo
Snapshot Date: 2022-01-19 13:55:26 -0500 (Wed, 19 Jan 2022)
git_url: https://git.bioconductor.org/packages/VariantFiltering
git_branch: master
git_last_commit: a5893e3
git_last_commit_date: 2021-10-26 12:13:05 -0500 (Tue, 26 Oct 2021)
nebbiolo1Linux (Ubuntu 20.04.4 LTS) / x86_64  OK    OK    OK  UNNEEDED, same version is already published
riesling1Windows Server 2019 Standard / x64  OK    OK    OK    OK  
palomino3Windows Server 2022 Datacenter / x64  OK    OK    OK    OK  NO, package depends on 'BiocGenerics' which is not available
merida1macOS 10.14.6 Mojave / x86_64  OK    OK    OK    OK  UNNEEDED, same version is already published

Summary

Package: VariantFiltering
Version: 1.31.0
Command: D:\biocbuild\bbs-3.15-bioc\R\bin\R.exe CMD INSTALL VariantFiltering
StartedAt: 2022-01-19 16:10:01 -0500 (Wed, 19 Jan 2022)
EndedAt: 2022-01-19 16:11:02 -0500 (Wed, 19 Jan 2022)
EllapsedTime: 60.8 seconds
RetCode: 0
Status:   OK  

Command output

##############################################################################
##############################################################################
###
### Running command:
###
###   D:\biocbuild\bbs-3.15-bioc\R\bin\R.exe CMD INSTALL VariantFiltering
###
##############################################################################
##############################################################################


* installing to library 'D:/biocbuild/bbs-3.15-bioc/R/library'
* installing *source* package 'VariantFiltering' ...
** using staged installation
** libs
"C:/rtools40/mingw64/bin/"gcc  -I"D:/biocbuild/bbs-3.15-bioc/R/include" -DNDEBUG  -I'D:/biocbuild/bbs-3.15-bioc/R/library/S4Vectors/include' -I'D:/biocbuild/bbs-3.15-bioc/R/library/IRanges/include' -I'D:/biocbuild/bbs-3.15-bioc/R/library/XVector/include' -I'D:/biocbuild/bbs-3.15-bioc/R/library/Biostrings/include'   -I"C:/extsoft/include"     -O2 -Wall  -std=gnu99 -mfpmath=sse -msse2 -mstackrealign -fno-reorder-blocks-and-partition  -c Biostrings_stubs.c -o Biostrings_stubs.o
"C:/rtools40/mingw64/bin/"gcc  -I"D:/biocbuild/bbs-3.15-bioc/R/include" -DNDEBUG  -I'D:/biocbuild/bbs-3.15-bioc/R/library/S4Vectors/include' -I'D:/biocbuild/bbs-3.15-bioc/R/library/IRanges/include' -I'D:/biocbuild/bbs-3.15-bioc/R/library/XVector/include' -I'D:/biocbuild/bbs-3.15-bioc/R/library/Biostrings/include'   -I"C:/extsoft/include"     -O2 -Wall  -std=gnu99 -mfpmath=sse -msse2 -mstackrealign -fno-reorder-blocks-and-partition  -c R_init_VariantFiltering.c -o R_init_VariantFiltering.o
"C:/rtools40/mingw64/bin/"gcc  -I"D:/biocbuild/bbs-3.15-bioc/R/include" -DNDEBUG  -I'D:/biocbuild/bbs-3.15-bioc/R/library/S4Vectors/include' -I'D:/biocbuild/bbs-3.15-bioc/R/library/IRanges/include' -I'D:/biocbuild/bbs-3.15-bioc/R/library/XVector/include' -I'D:/biocbuild/bbs-3.15-bioc/R/library/Biostrings/include'   -I"C:/extsoft/include"     -O2 -Wall  -std=gnu99 -mfpmath=sse -msse2 -mstackrealign -fno-reorder-blocks-and-partition  -c methods-WeightMatrix.c -o methods-WeightMatrix.o
C:/rtools40/mingw64/bin/gcc -shared -s -static-libgcc -o VariantFiltering.dll tmp.def Biostrings_stubs.o R_init_VariantFiltering.o methods-WeightMatrix.o -LC:/extsoft/lib/x64 -LC:/extsoft/lib -LD:/biocbuild/bbs-3.15-bioc/R/bin/x64 -lR
installing to D:/biocbuild/bbs-3.15-bioc/R/library/00LOCK-VariantFiltering/00new/VariantFiltering/libs/x64
** R
** inst
** byte-compile and prepare package for lazy loading
** help
*** installing help indices
  converting help for package 'VariantFiltering'
    finding HTML links ... done
    GenePhylostrataDb-class                 html  
    VariantFiltering-defunct                html  
    VariantFiltering-deprecated             html  
    finding level-2 HTML links ... done

    VariantFiltering-package                html  
    VariantFilteringParam-class             html  
    VariantFilteringResults-class           html  
    VariantType-class                       html  
    WeightMatrix-class                      html  
    autosomalDominant                       html  
    autosomalRecessiveHeterozygous          html  
    autosomalRecessiveHomozygous            html  
    deNovo                                  html  
    readAAradicalChangeMatrix               html  
    unrelatedIndividuals                    html  
    xLinked                                 html  
** building package indices
** installing vignettes
** testing if installed package can be loaded from temporary location
** testing if installed package can be loaded from final location
** testing if installed package keeps a record of temporary installation path
* DONE (VariantFiltering)
Making 'packages.html' ... done