Name | Last modified | Size | Description | |
---|---|---|---|---|
Parent Directory | - | |||
buildbin-out.txt | 29-Mar-2024 00:38 | 2.9K | ||
buildbin-summary.dcf | 29-Mar-2024 00:38 | 570 | ||
buildsrc-out.txt | 29-Mar-2024 00:38 | 916 | ||
buildsrc-summary.dcf | 29-Mar-2024 00:38 | 489 | ||
checksrc-out.txt | 29-Mar-2024 00:38 | 11K | ||
checksrc-summary.dcf | 29-Mar-2024 00:38 | 483 | ||
install-out.txt | 29-Mar-2024 00:38 | 2.7K | ||
install-summary.dcf | 29-Mar-2024 00:38 | 287 | ||