Index of /checkResults/devel/bioc-LATEST/VariantExperiment/raw-results/merida1
Name
Last modified
Size
Description
Parent Directory
-
install-out.txt
21-May-2024 00:38
1.0K
install-summary.dcf
21-May-2024 00:38
289
buildsrc-out.txt
21-May-2024 00:38
1.1K
buildsrc-summary.dcf
21-May-2024 00:38
363