Index of /checkResults/devel/bioc-LATEST/VariantExperiment/raw-results/lconway
Name
Last modified
Size
Description
Parent Directory
-
buildsrc-out.txt
29-Mar-2024 00:40
1.1K
buildsrc-summary.dcf
29-Mar-2024 00:40
363
install-out.txt
29-Mar-2024 00:40
1.0K
install-summary.dcf
29-Mar-2024 00:40
289