Name | Last modified | Size | Description | |
---|---|---|---|---|
Parent Directory | - | |||
buildsrc-out.txt | 29-Mar-2024 00:41 | 1.1K | ||
buildsrc-summary.dcf | 29-Mar-2024 00:41 | 362 | ||
checksrc-out.txt | 15-Feb-2024 03:22 | 3.9K | ||
checksrc-summary.dcf | 15-Feb-2024 03:22 | 499 | ||
install-out.txt | 29-Mar-2024 00:41 | 1.0K | ||
install-summary.dcf | 29-Mar-2024 00:41 | 288 | ||