Name | Last modified | Size | Description | |
---|---|---|---|---|
Parent Directory | - | |||
install-summary.dcf | 17-Jul-2024 00:41 | 294 | ||
buildsrc-summary.dcf | 17-Jul-2024 00:41 | 499 | ||
checksrc-summary.dcf | 17-Jul-2024 00:41 | 505 | ||
buildbin-summary.dcf | 17-Jul-2024 00:41 | 581 | ||
buildsrc-out.txt | 17-Jul-2024 00:41 | 927 | ||
install-out.txt | 17-Jul-2024 00:41 | 7.7K | ||
buildbin-out.txt | 17-Jul-2024 00:41 | 7.9K | ||
checksrc-out.txt | 17-Jul-2024 00:41 | 14K | ||