Name | Last modified | Size | Description | |
---|---|---|---|---|
Parent Directory | - | |||
checksrc-out.txt | 16-Jun-2024 01:34 | 15K | ||
checksrc-summary.dcf | 16-Jun-2024 01:34 | 458 | ||
install-out.txt | 27-Jul-2024 00:39 | 6.9K | ||
install-summary.dcf | 27-Jul-2024 00:39 | 279 | ||
buildsrc-out.txt | 27-Jul-2024 00:39 | 1.4K | ||
buildsrc-summary.dcf | 27-Jul-2024 00:39 | 360 | ||