Name | Last modified | Size | Description | |
---|---|---|---|---|
Parent Directory | - | |||
checksrc-out.txt | 12-Jul-2024 01:01 | 14K | ||
buildbin-out.txt | 12-Jul-2024 01:01 | 12K | ||
install-out.txt | 28-Jul-2024 00:41 | 9.0K | ||
buildsrc-out.txt | 28-Jul-2024 00:41 | 1.6K | ||
buildbin-summary.dcf | 12-Jul-2024 01:01 | 590 | ||
checksrc-summary.dcf | 12-Jul-2024 01:01 | 490 | ||
buildsrc-summary.dcf | 28-Jul-2024 00:41 | 364 | ||
install-summary.dcf | 28-Jul-2024 00:41 | 289 | ||