Name | Last modified | Size | Description | |
---|---|---|---|---|
Parent Directory | - | |||
buildsrc-out.txt | 09-Jul-2024 00:45 | 864 | ||
buildsrc-summary.dcf | 09-Jul-2024 00:45 | 436 | ||
checksrc-out.txt | 09-Jul-2024 00:45 | 1.8K | ||
checksrc-summary.dcf | 09-Jul-2024 00:45 | 447 | ||
install-out.txt | 07-Jul-2024 00:45 | 6.4K | ||
install-summary.dcf | 07-Jul-2024 00:45 | 267 | ||