Name | Last modified | Size | Description | |
---|---|---|---|---|
Parent Directory | - | |||
buildbin-out.txt | 27-Jul-2024 00:43 | 12K | ||
buildbin-summary.dcf | 27-Jul-2024 00:43 | 590 | ||
buildsrc-out.txt | 27-Jul-2024 00:43 | 886 | ||
buildsrc-summary.dcf | 27-Jul-2024 00:43 | 458 | ||
checksrc-out.txt | 27-Jul-2024 00:43 | 14K | ||
checksrc-summary.dcf | 27-Jul-2024 00:43 | 490 | ||
install-out.txt | 27-Jul-2024 00:43 | 8.9K | ||
install-summary.dcf | 27-Jul-2024 00:43 | 289 | ||