Name | Last modified | Size | Description | |
---|---|---|---|---|
Parent Directory | - | |||
checksrc-out.txt | 12-Jun-2024 04:43 | 14K | ||
buildbin-out.txt | 12-Jun-2024 04:43 | 12K | ||
install-out.txt | 12-Jun-2024 04:43 | 8.9K | ||
buildsrc-out.txt | 12-Jun-2024 04:43 | 886 | ||
buildbin-summary.dcf | 12-Jun-2024 04:43 | 590 | ||
checksrc-summary.dcf | 12-Jun-2024 04:43 | 490 | ||
buildsrc-summary.dcf | 12-Jun-2024 04:43 | 458 | ||
install-summary.dcf | 12-Jun-2024 04:43 | 289 | ||