Index of /checkResults/devel/bioc-LATEST/VarCon/raw-results
Name
Last modified
Size
Description
Parent Directory
-
info.dcf
02-May-2024 00:38
266
nebbiolo2/
02-May-2024 00:38
-
palomino4/
02-May-2024 00:39
-
merida1/
02-May-2024 00:40
-