Name | Last modified | Size | Description | |
---|---|---|---|---|
Parent Directory | - | |||
buildbin-out.txt | 17-Jul-2024 00:46 | 2.2K | ||
buildbin-summary.dcf | 17-Jul-2024 00:46 | 533 | ||
buildsrc-out.txt | 17-Jul-2024 00:46 | 946 | ||
buildsrc-summary.dcf | 17-Jul-2024 00:46 | 463 | ||
checksrc-out.txt | 17-Jul-2024 00:46 | 5.1K | ||
checksrc-summary.dcf | 17-Jul-2024 00:46 | 459 | ||
install-out.txt | 17-Jul-2024 00:46 | 2.0K | ||
install-summary.dcf | 17-Jul-2024 00:46 | 274 | ||