Name | Last modified | Size | Description | |
---|---|---|---|---|
Parent Directory | - | |||
buildbin-out.txt | 12-Jun-2024 04:41 | 2.2K | ||
buildbin-summary.dcf | 12-Jun-2024 04:41 | 533 | ||
buildsrc-out.txt | 12-Jun-2024 04:41 | 946 | ||
buildsrc-summary.dcf | 12-Jun-2024 04:41 | 465 | ||
checksrc-out.txt | 12-Jun-2024 04:41 | 5.2K | ||
checksrc-summary.dcf | 12-Jun-2024 04:41 | 459 | ||
install-out.txt | 12-Jun-2024 04:41 | 2.0K | ||
install-summary.dcf | 12-Jun-2024 04:41 | 274 | ||