Name | Last modified | Size | Description | |
---|---|---|---|---|
Parent Directory | - | |||
checksrc-summary.dcf | 17-Jul-2024 00:39 | 426 | ||
checksrc-out.txt | 17-Jul-2024 00:39 | 4.5K | ||
buildsrc-summary.dcf | 17-Jul-2024 00:39 | 432 | ||
buildsrc-out.txt | 17-Jul-2024 00:39 | 935 | ||
install-summary.dcf | 17-Jul-2024 00:39 | 265 | ||
install-out.txt | 17-Jul-2024 00:39 | 1.9K | ||